BEGIN:VCALENDAR
VERSION:2.0
PRODID:-//Circolo Tennis Carpena - ECPv5.9.2//NONSGML v1.0//EN
CALSCALE:GREGORIAN
METHOD:PUBLISH
X-WR-CALNAME:Circolo Tennis Carpena
X-ORIGINAL-URL:https://tenniscarpena.com
X-WR-CALDESC:Eventi per Circolo Tennis Carpena
BEGIN:VTIMEZONE
TZID:UTC
BEGIN:STANDARD
TZOFFSETFROM:+0000
TZOFFSETTO:+0000
TZNAME:UTC
DTSTART:20240101T000000
END:STANDARD
END:VTIMEZONE
BEGIN:VEVENT
DTSTART;TZID=UTC:20241020T163000
DTEND;TZID=UTC:20241020T163000
DTSTAMP:20260419T122220
CREATED:20241014T151653Z
LAST-MODIFIED:20241014T151653Z
UID:1495-1729441800-1729441800@tenniscarpena.com
SUMMARY:Torneo di Burraco
DESCRIPTION:Appuntamento Domenica 20 Ottobre alle ore 16:30 per il Torneo di Burraco. \nPremi alle prime tre coppie classificate \nIntermezzo goloso. \n> Iscrizioni in Segreteria (0543.480072)\nEuro 10\,00 a testa \n\n> La coppia può essere formata da un socio e da un invitato
URL:https://tenniscarpena.com/evento/torneo-di-burraco/
CATEGORIES:Ludico ricreativi
ATTACH;FMTTYPE=image/png:https://tenniscarpena.com/wp-content/uploads/2024/10/Eventi-Sito-Circolo.png
END:VEVENT
END:VCALENDAR