BEGIN:VCALENDAR
VERSION:2.0
PRODID:-//Circolo Tennis Carpena - ECPv5.9.2//NONSGML v1.0//EN
CALSCALE:GREGORIAN
METHOD:PUBLISH
X-WR-CALNAME:Circolo Tennis Carpena
X-ORIGINAL-URL:https://tenniscarpena.com
X-WR-CALDESC:Eventi per Circolo Tennis Carpena
BEGIN:VTIMEZONE
TZID:UTC
BEGIN:STANDARD
TZOFFSETFROM:+0000
TZOFFSETTO:+0000
TZNAME:UTC
DTSTART:20240101T000000
END:STANDARD
END:VTIMEZONE
BEGIN:VEVENT
DTSTART;TZID=UTC:20241024T000000
DTEND;TZID=UTC:20241027T000000
DTSTAMP:20260419T122843
CREATED:20241014T152616Z
LAST-MODIFIED:20241014T153700Z
UID:1498-1729728000-1729987200@tenniscarpena.com
SUMMARY:Torneo Wheelchair
DESCRIPTION:Dal 24 al 27 Ottobre si svolgerà presso il nostro circolo il primo Torneo Internazionale Weelchair Città di Forlì\, riservato ad atleti disabili in carrozzina.\n \n\nCategorie\nOPEN maschile e femminile singolare e doppio\nQUAD singolare e doppio \nQuattro giorni dedicati a dei super atleti che di fronte alle avversità della vita hanno reagito e stanno reagendo con orgoglio\, coraggio\, entusiasmo e sacrificio. \n\nSaranno quattro giorni di eventi non solo sportivi\, ma anche culturali con dibattiti\, eventi musicali\, convegni specializzati coinvolgendo anche le scuole e tutta la cittadinanza con il supporto delle associazioni di categoria e dell’ amministrazione comunale\, eventi culinari per fare conoscere a tutti le eccellenze gastronomiche del nostro territorio; coinvolgeremo le associazioni di volontariato della nostra città e gli istituti scolastici. \nVi aspettiamo! \n 
URL:https://tenniscarpena.com/evento/torneo-wheelchair/
CATEGORIES:Sportivi
ATTACH;FMTTYPE=image/png:https://tenniscarpena.com/wp-content/uploads/2024/10/Eventi-Sito-Circolo-1.png
END:VEVENT
END:VCALENDAR