BEGIN:VCALENDAR
VERSION:2.0
PRODID:-//Circolo Tennis Carpena - ECPv5.9.2//NONSGML v1.0//EN
CALSCALE:GREGORIAN
METHOD:PUBLISH
X-WR-CALNAME:Circolo Tennis Carpena
X-ORIGINAL-URL:https://tenniscarpena.com
X-WR-CALDESC:Eventi per Circolo Tennis Carpena
BEGIN:VTIMEZONE
TZID:UTC
BEGIN:STANDARD
TZOFFSETFROM:+0000
TZOFFSETTO:+0000
TZNAME:UTC
DTSTART:20230101T000000
END:STANDARD
END:VTIMEZONE
BEGIN:VEVENT
DTSTART;TZID=UTC:20230727T210000
DTEND;TZID=UTC:20230727T233000
DTSTAMP:20260419T122820
CREATED:20230724T142555Z
LAST-MODIFIED:20230724T142555Z
UID:1341-1690491600-1690500600@tenniscarpena.com
SUMMARY:Trilok Gurtu - Percussioni
DESCRIPTION:Giovedì 27 luglio alle ore 21:00 altro appuntamento con la musica\, va in scena il percussionista Trilok Gurtu. \nUn appuntamento da non perdere! \nEvento gratuito per i Soci e per un proprio ospite.\nÈ gradita la prenotazione in Segreteria 0543.48007 \n 
URL:https://tenniscarpena.com/evento/trilok-gurtu-percussioni/
CATEGORIES:Ludico ricreativi
ATTACH;FMTTYPE=image/png:https://tenniscarpena.com/wp-content/uploads/2023/07/Eventi-Sito-Circolo-2-1.png
END:VEVENT
END:VCALENDAR