BEGIN:VCALENDAR
VERSION:2.0
PRODID:-//Circolo Tennis Carpena - ECPv5.9.2//NONSGML v1.0//EN
CALSCALE:GREGORIAN
METHOD:PUBLISH
X-WR-CALNAME:Circolo Tennis Carpena
X-ORIGINAL-URL:https://tenniscarpena.com
X-WR-CALDESC:Eventi per Circolo Tennis Carpena
BEGIN:VTIMEZONE
TZID:UTC
BEGIN:STANDARD
TZOFFSETFROM:+0000
TZOFFSETTO:+0000
TZNAME:UTC
DTSTART:20240101T000000
END:STANDARD
END:VTIMEZONE
BEGIN:VEVENT
DTSTART;TZID=UTC:20240830T213000
DTEND;TZID=UTC:20240830T213000
DTSTAMP:20260419T124418
CREATED:20240802T172817Z
LAST-MODIFIED:20240802T173109Z
UID:1480-1725053400-1725053400@tenniscarpena.com
SUMMARY:UNA NOTTE AL CINEMA QAOS CANTA HOLLYWOOD
DESCRIPTION:Venerdì 30 Agosto il Gruppo Teatrale QAOS presenta uno spettacolo pieno di musica\, emozioni e divertimento!\n\nUn concert show con un cast di circa 30 interpreti\, fra cantanti e ballerini\, per celebrare la settima arte in chiave musicale: in novanta minuti\, canzoni e balletti dai più celebri film. \nNon mancate! \n> Possibilità per i Soci di estendere l’invito.
URL:https://tenniscarpena.com/evento/una-notte-al-cinema-qaos-canta-hollywood/
CATEGORIES:Ludico ricreativi
ATTACH;FMTTYPE=image/png:https://tenniscarpena.com/wp-content/uploads/2024/08/Eventi-Sito-Circolo-2.png
END:VEVENT
END:VCALENDAR