BEGIN:VCALENDAR
VERSION:2.0
PRODID:-//Circolo Tennis Carpena - ECPv5.9.2//NONSGML v1.0//EN
CALSCALE:GREGORIAN
METHOD:PUBLISH
X-WR-CALNAME:Circolo Tennis Carpena
X-ORIGINAL-URL:https://tenniscarpena.com
X-WR-CALDESC:Eventi per Circolo Tennis Carpena
BEGIN:VTIMEZONE
TZID:UTC
BEGIN:STANDARD
TZOFFSETFROM:+0000
TZOFFSETTO:+0000
TZNAME:UTC
DTSTART:20230101T000000
END:STANDARD
END:VTIMEZONE
BEGIN:VEVENT
DTSTART;TZID=UTC:20230407T200000
DTEND;TZID=UTC:20230407T233000
DTSTAMP:20260419T122822
CREATED:20230405T135155Z
LAST-MODIFIED:20230405T135155Z
UID:1288-1680897600-1680910200@tenniscarpena.com
SUMMARY:Venerdì 7 Aprile
DESCRIPTION:
URL:https://tenniscarpena.com/evento/venerdi-7-aprile/
CATEGORIES:Ludico ricreativi
ATTACH;FMTTYPE=image/jpeg:https://tenniscarpena.com/wp-content/uploads/2023/04/WhatsApp-Image-2023-04-05-at-15.41.38-1.jpeg
END:VEVENT
END:VCALENDAR